BEGIN:VCALENDAR
VERSION:2.0
PRODID:-//Sciences &amp; Médias - ECPv6.15.20//NONSGML v1.0//EN
CALSCALE:GREGORIAN
METHOD:PUBLISH
X-WR-CALNAME:Sciences &amp; Médias
X-ORIGINAL-URL:https://sciences-medias.fr/blogs
X-WR-CALDESC:Évènements pour Sciences &amp; Médias
REFRESH-INTERVAL;VALUE=DURATION:PT1H
X-Robots-Tag:noindex
X-PUBLISHED-TTL:PT1H
BEGIN:VTIMEZONE
TZID:Europe/Paris
BEGIN:DAYLIGHT
TZOFFSETFROM:+0100
TZOFFSETTO:+0200
TZNAME:CEST
DTSTART:20220327T010000
END:DAYLIGHT
BEGIN:STANDARD
TZOFFSETFROM:+0200
TZOFFSETTO:+0100
TZNAME:CET
DTSTART:20221030T010000
END:STANDARD
BEGIN:DAYLIGHT
TZOFFSETFROM:+0100
TZOFFSETTO:+0200
TZNAME:CEST
DTSTART:20230326T010000
END:DAYLIGHT
BEGIN:STANDARD
TZOFFSETFROM:+0200
TZOFFSETTO:+0100
TZNAME:CET
DTSTART:20231029T010000
END:STANDARD
BEGIN:DAYLIGHT
TZOFFSETFROM:+0100
TZOFFSETTO:+0200
TZNAME:CEST
DTSTART:20240331T010000
END:DAYLIGHT
BEGIN:STANDARD
TZOFFSETFROM:+0200
TZOFFSETTO:+0100
TZNAME:CET
DTSTART:20241027T010000
END:STANDARD
END:VTIMEZONE
BEGIN:VEVENT
DTSTART;TZID=Europe/Paris:20231005T200000
DTEND;TZID=Europe/Paris:20231005T230000
DTSTAMP:20260420T075827
CREATED:20230922T100608Z
LAST-MODIFIED:20230922T100738Z
UID:5014-1696536000-1696546800@sciences-medias.fr
SUMMARY:Controverses scientifiques théâtralisées – 2023
DESCRIPTION:Nous vous convions à la représentation de la pièce de théâtre « L’expédition sous pression » présentée par les étudiantes et les étudiants de 1re année du master Audiovisuel\, Journalisme et Communication Scientifiques sur le thème « Océan\, préservation ou exploitation »\, \njeudi 5 octobre 2023 à 20h au Totem\, 11 Place Nationale\, 75013 (métro Olympiade – ligne 14 ou Nationale – ligne 6) \nLa pièce d’une durée d’environ 1h sera suivie par un débat (1h) puis par un pot où vous êtes toutes et tous conviés. \nL’entrée est gratuite dans la limite des places disponibles.\nLa réservation est obligatoire. Vous pouvez dès maintenant réserver en écrivant à frederic.tournier@u-paris.fr en précisant le(s) nom(s) et le nombre de places.
URL:https://sciences-medias.fr/blogs/event/controverses-scientifiques-theatralisees-2023/
LOCATION:Le TOTEM\, 11 place Nationale\, Paris\, 75013\, France
CATEGORIES:Spectacles
END:VEVENT
END:VCALENDAR