BEGIN:VCALENDAR
VERSION:2.0
PRODID:-//Sciences &amp; Médias - ECPv6.15.20//NONSGML v1.0//EN
CALSCALE:GREGORIAN
METHOD:PUBLISH
X-WR-CALNAME:Sciences &amp; Médias
X-ORIGINAL-URL:https://sciences-medias.fr/blogs
X-WR-CALDESC:Évènements pour Sciences &amp; Médias
REFRESH-INTERVAL;VALUE=DURATION:PT1H
X-Robots-Tag:noindex
X-PUBLISHED-TTL:PT1H
BEGIN:VTIMEZONE
TZID:Europe/Paris
BEGIN:DAYLIGHT
TZOFFSETFROM:+0100
TZOFFSETTO:+0200
TZNAME:CEST
DTSTART:20210328T010000
END:DAYLIGHT
BEGIN:STANDARD
TZOFFSETFROM:+0200
TZOFFSETTO:+0100
TZNAME:CET
DTSTART:20211031T010000
END:STANDARD
BEGIN:DAYLIGHT
TZOFFSETFROM:+0100
TZOFFSETTO:+0200
TZNAME:CEST
DTSTART:20220327T010000
END:DAYLIGHT
BEGIN:STANDARD
TZOFFSETFROM:+0200
TZOFFSETTO:+0100
TZNAME:CET
DTSTART:20221030T010000
END:STANDARD
BEGIN:DAYLIGHT
TZOFFSETFROM:+0100
TZOFFSETTO:+0200
TZNAME:CEST
DTSTART:20230326T010000
END:DAYLIGHT
BEGIN:STANDARD
TZOFFSETFROM:+0200
TZOFFSETTO:+0100
TZNAME:CET
DTSTART:20231029T010000
END:STANDARD
END:VTIMEZONE
BEGIN:VEVENT
DTSTART;TZID=Europe/Paris:20220928T200000
DTEND;TZID=Europe/Paris:20220928T220000
DTSTAMP:20260421T044009
CREATED:20220916T083515Z
LAST-MODIFIED:20230126T152220Z
UID:4625-1664395200-1664402400@sciences-medias.fr
SUMMARY:Controverses scientifiques théâtralisées - 2022
DESCRIPTION:Comme chaque année\, les étudiantes et les étudiants de 1e année du master Audiovisuel Journalisme et Communication Scientifiques travaillent sur un thème scientifique (cette année\, « la médiation scientifique »)\, réunissent des documents (articles\, revues\, rapports…)\, créent des personnages et montent une pièce de théâtre. \nLa pièce – La science repeinte – sera présentée le mercredi 28 septembre à 20h au Totem (11 place Nationale\, Paris 13e). Elle sera suivie par un débat puis un pot. L’entrée sera gratuite dans la limite des places disponibles. Vous pouvez dès maintenant réserver en écrivant à frederic.tournier@u-paris.fr et en précisant le(s) nom(s) et le nombre de places.
URL:https://sciences-medias.fr/blogs/event/controverses-scientifiques-theatralisees-2022/
LOCATION:Le TOTEM\, 11 place Nationale\, Paris\, 75013\, France
CATEGORIES:Spectacles
END:VEVENT
END:VCALENDAR