BEGIN:VCALENDAR
VERSION:2.0
PRODID:-//Sciences &amp; Médias - ECPv6.15.20//NONSGML v1.0//EN
CALSCALE:GREGORIAN
METHOD:PUBLISH
X-ORIGINAL-URL:https://sciences-medias.fr/blogs
X-WR-CALDESC:Évènements pour Sciences &amp; Médias
REFRESH-INTERVAL;VALUE=DURATION:PT1H
X-Robots-Tag:noindex
X-PUBLISHED-TTL:PT1H
BEGIN:VTIMEZONE
TZID:Europe/Paris
BEGIN:DAYLIGHT
TZOFFSETFROM:+0100
TZOFFSETTO:+0200
TZNAME:CEST
DTSTART:20180325T010000
END:DAYLIGHT
BEGIN:STANDARD
TZOFFSETFROM:+0200
TZOFFSETTO:+0100
TZNAME:CET
DTSTART:20181028T010000
END:STANDARD
BEGIN:DAYLIGHT
TZOFFSETFROM:+0100
TZOFFSETTO:+0200
TZNAME:CEST
DTSTART:20190331T010000
END:DAYLIGHT
BEGIN:STANDARD
TZOFFSETFROM:+0200
TZOFFSETTO:+0100
TZNAME:CET
DTSTART:20191027T010000
END:STANDARD
BEGIN:DAYLIGHT
TZOFFSETFROM:+0100
TZOFFSETTO:+0200
TZNAME:CEST
DTSTART:20200329T010000
END:DAYLIGHT
BEGIN:STANDARD
TZOFFSETFROM:+0200
TZOFFSETTO:+0100
TZNAME:CET
DTSTART:20201025T010000
END:STANDARD
END:VTIMEZONE
BEGIN:VEVENT
DTSTART;TZID=Europe/Paris:20191001T200000
DTEND;TZID=Europe/Paris:20191001T230000
DTSTAMP:20260423T171602
CREATED:20190920T083034Z
LAST-MODIFIED:20190920T172734Z
UID:3741-1569960000-1569970800@sciences-medias.fr
SUMMARY:Les acacias mangent-ils des gazelles ?
DESCRIPTION:Sur le thème de l’intelligence végétale\, les étudiant.e.s de première année du master Audiovisuel\, journalisme et communication scientifiques présentent leur pièce de théâtre « Les acacias mangent-ils des gazelles ? » \nEncadrement et mise en scène : Emilie Trasente\, assistée de Laure Meurisse \nPour en savoir plus sur la question de l’intelligence des plantes et en quoi la question dérange\, venez assister au spectacle \nMardi 1er octobre 2019 à 20h \nau Théâtre Le 13e Art\n30 avenue d’Italie\n75013 Paris\n  \nDurée : 1 heure environ.\nLa pièce sera suivie d’un débat (45 minutes) autour de la question de « l’intelligence végétale » en présence des scientifiques François Bouteau\, Pierre-Henri Gouyon et Laure Bonnaud (sous réserve).\nLa soirée se terminera par un pot amical. \nEntrée gratuite avec réservation indispensable. \nContact :\nFrédéric Tournier\nfrederic.tournier@univ-paris-diderot.fr
URL:https://sciences-medias.fr/blogs/event/les-acacias-mangent-ils-des-gazelles/
LOCATION:Théâtre Le 13e Art\, 30 avenue d'Italie\, Paris\, 75013\, France
CATEGORIES:Spectacles
END:VEVENT
END:VCALENDAR