BEGIN:VCALENDAR
VERSION:2.0
PRODID:-//Sciences &amp; Médias - ECPv6.15.20//NONSGML v1.0//EN
CALSCALE:GREGORIAN
METHOD:PUBLISH
X-ORIGINAL-URL:https://sciences-medias.fr/blogs
X-WR-CALDESC:Évènements pour Sciences &amp; Médias
REFRESH-INTERVAL;VALUE=DURATION:PT1H
X-Robots-Tag:noindex
X-PUBLISHED-TTL:PT1H
BEGIN:VTIMEZONE
TZID:Europe/Paris
BEGIN:DAYLIGHT
TZOFFSETFROM:+0100
TZOFFSETTO:+0200
TZNAME:CEST
DTSTART:20200329T010000
END:DAYLIGHT
BEGIN:STANDARD
TZOFFSETFROM:+0200
TZOFFSETTO:+0100
TZNAME:CET
DTSTART:20201025T010000
END:STANDARD
BEGIN:DAYLIGHT
TZOFFSETFROM:+0100
TZOFFSETTO:+0200
TZNAME:CEST
DTSTART:20210328T010000
END:DAYLIGHT
BEGIN:STANDARD
TZOFFSETFROM:+0200
TZOFFSETTO:+0100
TZNAME:CET
DTSTART:20211031T010000
END:STANDARD
BEGIN:DAYLIGHT
TZOFFSETFROM:+0100
TZOFFSETTO:+0200
TZNAME:CEST
DTSTART:20220327T010000
END:DAYLIGHT
BEGIN:STANDARD
TZOFFSETFROM:+0200
TZOFFSETTO:+0100
TZNAME:CET
DTSTART:20221030T010000
END:STANDARD
END:VTIMEZONE
BEGIN:VEVENT
DTSTART;TZID=Europe/Paris:20210930T200000
DTEND;TZID=Europe/Paris:20210930T223000
DTSTAMP:20260422T010401
CREATED:20210906T151927Z
LAST-MODIFIED:20210921T142556Z
UID:4343-1633032000-1633041000@sciences-medias.fr
SUMMARY:Opération Greenputsch - Controverse scientifique 2021
DESCRIPTION:Comme chaque année\, les étudiantes et étudiants de 1e année du master Audiovisuel Journalisme et Communication Scientifiques (AJCS) écrivent une pièce de théâtre autour d’une controverse scientifique. \nLe thème de cette année : biodiversité et controverses. \nJeudi 30 septembre 2021\, à 20 h\nau Totem\, 11 Place Nationale\, 75013 Paris \nEncadrement : Frédéric Tournier et Emilie Trasente (www.compagnietoutcontre.com) \nDébat avec le public en présence de personnalités invitées (chercheuses\, chercheurs\, spécialistes). \nGratuit\, sur réservation (jauge limitée) : frederic.tournier@u-paris.fr
URL:https://sciences-medias.fr/blogs/event/les-controverses-scientifiques-2021-2022/
LOCATION:Le TOTEM\, 11 place Nationale\, Paris\, 75013\, France
CATEGORIES:Spectacles
END:VEVENT
END:VCALENDAR