BEGIN:VCALENDAR
VERSION:2.0
PRODID:-//Sciences &amp; Médias - ECPv6.15.20//NONSGML v1.0//EN
CALSCALE:GREGORIAN
METHOD:PUBLISH
X-WR-CALNAME:Sciences &amp; Médias
X-ORIGINAL-URL:https://sciences-medias.fr/blogs
X-WR-CALDESC:Évènements pour Sciences &amp; Médias
REFRESH-INTERVAL;VALUE=DURATION:PT1H
X-Robots-Tag:noindex
X-PUBLISHED-TTL:PT1H
BEGIN:VTIMEZONE
TZID:Europe/Paris
BEGIN:DAYLIGHT
TZOFFSETFROM:+0100
TZOFFSETTO:+0200
TZNAME:CEST
DTSTART:20160327T010000
END:DAYLIGHT
BEGIN:STANDARD
TZOFFSETFROM:+0200
TZOFFSETTO:+0100
TZNAME:CET
DTSTART:20161030T010000
END:STANDARD
BEGIN:DAYLIGHT
TZOFFSETFROM:+0100
TZOFFSETTO:+0200
TZNAME:CEST
DTSTART:20170326T010000
END:DAYLIGHT
BEGIN:STANDARD
TZOFFSETFROM:+0200
TZOFFSETTO:+0100
TZNAME:CET
DTSTART:20171029T010000
END:STANDARD
BEGIN:DAYLIGHT
TZOFFSETFROM:+0100
TZOFFSETTO:+0200
TZNAME:CEST
DTSTART:20180325T010000
END:DAYLIGHT
BEGIN:STANDARD
TZOFFSETFROM:+0200
TZOFFSETTO:+0100
TZNAME:CET
DTSTART:20181028T010000
END:STANDARD
END:VTIMEZONE
BEGIN:VEVENT
DTSTART;TZID=Europe/Paris:20170930T200000
DTEND;TZID=Europe/Paris:20170930T230000
DTSTAMP:20260425T053942
CREATED:20170916T155003Z
LAST-MODIFIED:20190517T120842Z
UID:2654-1506801600-1506812400@sciences-medias.fr
SUMMARY:« C'est pas mon genre ! »
DESCRIPTION:Sur le thème du genre\, les étudiant.e.s de première année du master Journalisme\, culture et communication scientifiques présenteront un spectacle « tout public » \nSamedi 30 septembre 2017 à 20h\,  \nDurée : 1 heure environ.\nLa pièce sera suivie d’un débat (1h) puis d’un pot amical. \nau Théâtre de l’ENS (École Normale Supérieure)\, 45 rue d’Ulm\, 75005 Paris.  \nEntrée gratuite dans la limite des places disponibles. \nContact :\nFrédéric Tournier\nfrederic.tournier@univ-paris-diderot.fr\n01 57 27 79 71
URL:https://sciences-medias.fr/blogs/event/cest-pas-mon-genre/
LOCATION:Théâtre de l’École Normale Supérieure\, 45 rue d'Ulm\, Paris\, 75005\, France
CATEGORIES:Spectacles
END:VEVENT
END:VCALENDAR