BEGIN:VCALENDAR
VERSION:2.0
PRODID:-//Sciences &amp; Médias - ECPv6.15.20//NONSGML v1.0//EN
CALSCALE:GREGORIAN
METHOD:PUBLISH
X-WR-CALNAME:Sciences &amp; Médias
X-ORIGINAL-URL:https://sciences-medias.fr/blogs
X-WR-CALDESC:Évènements pour Sciences &amp; Médias
REFRESH-INTERVAL;VALUE=DURATION:PT1H
X-Robots-Tag:noindex
X-PUBLISHED-TTL:PT1H
BEGIN:VTIMEZONE
TZID:Europe/Paris
BEGIN:DAYLIGHT
TZOFFSETFROM:+0100
TZOFFSETTO:+0200
TZNAME:CEST
DTSTART:20150329T010000
END:DAYLIGHT
BEGIN:STANDARD
TZOFFSETFROM:+0200
TZOFFSETTO:+0100
TZNAME:CET
DTSTART:20151025T010000
END:STANDARD
BEGIN:DAYLIGHT
TZOFFSETFROM:+0100
TZOFFSETTO:+0200
TZNAME:CEST
DTSTART:20160327T010000
END:DAYLIGHT
BEGIN:STANDARD
TZOFFSETFROM:+0200
TZOFFSETTO:+0100
TZNAME:CET
DTSTART:20161030T010000
END:STANDARD
BEGIN:DAYLIGHT
TZOFFSETFROM:+0100
TZOFFSETTO:+0200
TZNAME:CEST
DTSTART:20170326T010000
END:DAYLIGHT
BEGIN:STANDARD
TZOFFSETFROM:+0200
TZOFFSETTO:+0100
TZNAME:CET
DTSTART:20171029T010000
END:STANDARD
END:VTIMEZONE
BEGIN:VEVENT
DTSTART;TZID=Europe/Paris:20161017T190000
DTEND;TZID=Europe/Paris:20161017T203000
DTSTAMP:20260425T214720
CREATED:20160902T112216Z
LAST-MODIFIED:20190517T121343Z
UID:2201-1476730800-1476736200@sciences-medias.fr
SUMMARY:Controverse scientifique 2016 #1
DESCRIPTION:E    M    M    A\nÊtre Machine Machine Avoir\nSpectacle vivant et débat \n\nLundi 17 octobre à 19 heures (spectacle uniquement)\, dans le programme « Off » de la Fête de la Science à l’université Paris Diderot\nMardi 15 novembre à 20 heures (spectacle\, débat et pot)\, dans le cadre du Festival des Idées organisé par l’Université Sorbonne Paris Cité (Page Facebook du festival des Idées)\n\nAu Théâtre de la Reine Blanche\nGrande salle \nEntrée gratuite. Réservation indispensable à : reservation@reineblanche.com \nControverse scientifique théâtralisée\, la pièce EMMA est écrite et interprétée par les étudiants du Master Journalisme\, Culture et Communication Scientifiques de l’université Paris Diderot.\nLa représentation du 15 novembre sera suivie d’un débat avec des référents du domaine\, les étudiants et le public\, pour prolonger la réflexion.\nUn pot amical réunira les comédiens\, les personnalités scientifiques et le public à l’issue du débat. \nCoordination et mise en scène : Émilie Trasente\, Frédéric Tournier \nRégie vidéo : Nuno Marcelino \nAvec le soutien de la Mairie de Paris
URL:https://sciences-medias.fr/blogs/event/controverse-scientifique-2016-2/
LOCATION:Théâtre de la Reine Blanche\, 2 bis passage Ruelle\, Paris\, 75018
CATEGORIES:Spectacles
END:VEVENT
END:VCALENDAR