BEGIN:VCALENDAR
VERSION:2.0
PRODID:-//Sciences &amp; Médias - ECPv6.15.20//NONSGML v1.0//EN
CALSCALE:GREGORIAN
METHOD:PUBLISH
X-WR-CALNAME:Sciences &amp; Médias
X-ORIGINAL-URL:https://sciences-medias.fr/blogs
X-WR-CALDESC:Évènements pour Sciences &amp; Médias
REFRESH-INTERVAL;VALUE=DURATION:PT1H
X-Robots-Tag:noindex
X-PUBLISHED-TTL:PT1H
BEGIN:VTIMEZONE
TZID:Europe/Paris
BEGIN:DAYLIGHT
TZOFFSETFROM:+0100
TZOFFSETTO:+0200
TZNAME:CEST
DTSTART:20130331T010000
END:DAYLIGHT
BEGIN:STANDARD
TZOFFSETFROM:+0200
TZOFFSETTO:+0100
TZNAME:CET
DTSTART:20131027T010000
END:STANDARD
BEGIN:DAYLIGHT
TZOFFSETFROM:+0100
TZOFFSETTO:+0200
TZNAME:CEST
DTSTART:20140330T010000
END:DAYLIGHT
BEGIN:STANDARD
TZOFFSETFROM:+0200
TZOFFSETTO:+0100
TZNAME:CET
DTSTART:20141026T010000
END:STANDARD
BEGIN:DAYLIGHT
TZOFFSETFROM:+0100
TZOFFSETTO:+0200
TZNAME:CEST
DTSTART:20150329T010000
END:DAYLIGHT
BEGIN:STANDARD
TZOFFSETFROM:+0200
TZOFFSETTO:+0100
TZNAME:CET
DTSTART:20151025T010000
END:STANDARD
END:VTIMEZONE
BEGIN:VEVENT
DTSTART;TZID=Europe/Paris:20141212T100000
DTEND;TZID=Europe/Paris:20141212T130000
DTSTAMP:20260425T151533
CREATED:20141208T085455Z
LAST-MODIFIED:20190517T122522Z
UID:1632-1418378400-1418389200@sciences-medias.fr
SUMMARY:Thèse de Jozef Bury
DESCRIPTION:Joëlle Le Marec fait partie du jury de thèse de Jozef Bury\, sous la direction d’Olivier Lussac : « Performance et temps. Pour une théorie esthétique du temps dans la performance artistique du XXe siècle et du début du XXIe siècle » La soutenance aura lieu à l’Université de Lorraine le 12 décembre\, de 10h à 13h. \nLe jury est composé de : \nM. Olivier LUSSAC\, Professeur à l’Université de Lorraine\, Directeur de thèse\nMme Joëlle LE MAREC\, Professeure à l’Université Paris Diderot – Paris 7\nMme Françoise VINCENT-FERIA\, Professeure à l’Université de Strasbourg\nMme Claire LAHUERTA\, Professeure à l’Université de Lorraine\nM. Germain ROESZ\, Professeur émérite à l’Université de Strasbourg\nM. Roberto BARBANTI\, Professeur à l’Université Paris 8 \nLa soutenance a lieu le vendredi 12 décembre 2014\, à 9 h 30\, à l’Université de Lorraine\, site de Metz\, salle du conseil (salle Grappin) au 2e étage de l’UFR Arts Lettres et Langues.\nElle sera suivie d’un pot à 13 h.
URL:https://sciences-medias.fr/blogs/event/these-de-jozef-bury/
LOCATION:Université de Lorraine – site de Metz\, Île du Saulcy\, Metz\, 57000
CATEGORIES:Soutenances
END:VEVENT
END:VCALENDAR