BEGIN:VCALENDAR
VERSION:2.0
PRODID:-//Sciences &amp; Médias - ECPv6.15.20//NONSGML v1.0//EN
CALSCALE:GREGORIAN
METHOD:PUBLISH
X-WR-CALNAME:Sciences &amp; Médias
X-ORIGINAL-URL:https://sciences-medias.fr/blogs
X-WR-CALDESC:Évènements pour Sciences &amp; Médias
REFRESH-INTERVAL;VALUE=DURATION:PT1H
X-Robots-Tag:noindex
X-PUBLISHED-TTL:PT1H
BEGIN:VTIMEZONE
TZID:Europe/Paris
BEGIN:DAYLIGHT
TZOFFSETFROM:+0100
TZOFFSETTO:+0200
TZNAME:CEST
DTSTART:20130331T010000
END:DAYLIGHT
BEGIN:STANDARD
TZOFFSETFROM:+0200
TZOFFSETTO:+0100
TZNAME:CET
DTSTART:20131027T010000
END:STANDARD
BEGIN:DAYLIGHT
TZOFFSETFROM:+0100
TZOFFSETTO:+0200
TZNAME:CEST
DTSTART:20140330T010000
END:DAYLIGHT
BEGIN:STANDARD
TZOFFSETFROM:+0200
TZOFFSETTO:+0100
TZNAME:CET
DTSTART:20141026T010000
END:STANDARD
BEGIN:DAYLIGHT
TZOFFSETFROM:+0100
TZOFFSETTO:+0200
TZNAME:CEST
DTSTART:20150329T010000
END:DAYLIGHT
BEGIN:STANDARD
TZOFFSETFROM:+0200
TZOFFSETTO:+0100
TZNAME:CET
DTSTART:20151025T010000
END:STANDARD
END:VTIMEZONE
BEGIN:VEVENT
DTSTART;VALUE=DATE:20141120
DTEND;VALUE=DATE:20141121
DTSTAMP:20260425T162709
CREATED:20140909T124802Z
LAST-MODIFIED:20190517T122938Z
UID:1514-1416441600-1416527999@sciences-medias.fr
SUMMARY:Thèse de Thierry Devars
DESCRIPTION:Joëlle Le Marec est membre du jury de thèse de doctorat de Thierry Devars : « La communication politique audiovisuelle à l’heure du numérique. Le cas des vidéos politiques entre 2007 et 2012 »\, sous la direction d’Emmanuël Souchier. \nLa soutenance a lieu le 20 novembre 2014 au CELSA\, université Paris 4.
URL:https://sciences-medias.fr/blogs/event/these-de-thierry-devars/
LOCATION:CELSA\, 77 Rue de Villiers\, Neuilly-sur-Seine\, 92200\, France
CATEGORIES:Soutenances
END:VEVENT
END:VCALENDAR