BEGIN:VCALENDAR
VERSION:2.0
PRODID:-//Sciences &amp; Médias - ECPv6.15.20//NONSGML v1.0//EN
CALSCALE:GREGORIAN
METHOD:PUBLISH
X-ORIGINAL-URL:https://sciences-medias.fr/blogs
X-WR-CALDESC:Évènements pour Sciences &amp; Médias
REFRESH-INTERVAL;VALUE=DURATION:PT1H
X-Robots-Tag:noindex
X-PUBLISHED-TTL:PT1H
BEGIN:VTIMEZONE
TZID:Europe/Paris
BEGIN:DAYLIGHT
TZOFFSETFROM:+0100
TZOFFSETTO:+0200
TZNAME:CEST
DTSTART:20130331T010000
END:DAYLIGHT
BEGIN:STANDARD
TZOFFSETFROM:+0200
TZOFFSETTO:+0100
TZNAME:CET
DTSTART:20131027T010000
END:STANDARD
BEGIN:DAYLIGHT
TZOFFSETFROM:+0100
TZOFFSETTO:+0200
TZNAME:CEST
DTSTART:20140330T010000
END:DAYLIGHT
BEGIN:STANDARD
TZOFFSETFROM:+0200
TZOFFSETTO:+0100
TZNAME:CET
DTSTART:20141026T010000
END:STANDARD
BEGIN:DAYLIGHT
TZOFFSETFROM:+0100
TZOFFSETTO:+0200
TZNAME:CEST
DTSTART:20150329T010000
END:DAYLIGHT
BEGIN:STANDARD
TZOFFSETFROM:+0200
TZOFFSETTO:+0100
TZNAME:CET
DTSTART:20151025T010000
END:STANDARD
END:VTIMEZONE
BEGIN:VEVENT
DTSTART;VALUE=DATE:20141014
DTEND;VALUE=DATE:20141015
DTSTAMP:20260425T162600
CREATED:20140916T115150Z
LAST-MODIFIED:20190517T122651Z
UID:1557-1413244800-1413331199@sciences-medias.fr
SUMMARY:Thèse de Lionel Scotto d'Apollonia
DESCRIPTION:Joëlle Le Marec fait partie du jury de thèse de doctorat de Lionel Scotto d’Apollonia :\n« Les controverses climatiques : une analyse socio-épistémique »\, sous la direction de Jean-Bruno Renard. \nLa soutenance a lieu le 14 octobre 2014 à l’université de Montpellier 3 Paul Valéry.
URL:https://sciences-medias.fr/blogs/event/these-de-lionel-scotto-dapollonia/
LOCATION:Université de Montpellier 3 Paul Valéry\, Route de Mende\, Montpellier\, 34199
CATEGORIES:Soutenances
END:VEVENT
BEGIN:VEVENT
DTSTART;VALUE=DATE:20141020
DTEND;VALUE=DATE:20141021
DTSTAMP:20260425T162600
CREATED:20140909T124823Z
LAST-MODIFIED:20190517T122912Z
UID:1510-1413763200-1413849599@sciences-medias.fr
SUMMARY:Thèse de Manuel Anjembe
DESCRIPTION:Joëlle Le Marec est membre du jury de thèse de doctorat de Manuel Anjembe : « La projection d’usage des TICs – fictions axiomatiques au service de la recherche technologique »\, sous la direction de Bernard Denni. \nLa soutenance a lieu le 20 octobre 2014 à Sciences Po Grenoble.
URL:https://sciences-medias.fr/blogs/event/these-de-manuel-anjembe/
LOCATION:Sciences Po Grenoble\, 1030 Avenue Centrale\, Domaine Universitaire\, Saint-Martin-d'Hères\, 38400\, France
CATEGORIES:Soutenances
END:VEVENT
END:VCALENDAR