BEGIN:VCALENDAR
VERSION:2.0
PRODID:-//Sciences &amp; Médias - ECPv6.15.20//NONSGML v1.0//EN
CALSCALE:GREGORIAN
METHOD:PUBLISH
X-ORIGINAL-URL:https://sciences-medias.fr/blogs
X-WR-CALDESC:Évènements pour Sciences &amp; Médias
REFRESH-INTERVAL;VALUE=DURATION:PT1H
X-Robots-Tag:noindex
X-PUBLISHED-TTL:PT1H
BEGIN:VTIMEZONE
TZID:Europe/Paris
BEGIN:DAYLIGHT
TZOFFSETFROM:+0100
TZOFFSETTO:+0200
TZNAME:CEST
DTSTART:20130331T010000
END:DAYLIGHT
BEGIN:STANDARD
TZOFFSETFROM:+0200
TZOFFSETTO:+0100
TZNAME:CET
DTSTART:20131027T010000
END:STANDARD
BEGIN:DAYLIGHT
TZOFFSETFROM:+0100
TZOFFSETTO:+0200
TZNAME:CEST
DTSTART:20140330T010000
END:DAYLIGHT
BEGIN:STANDARD
TZOFFSETFROM:+0200
TZOFFSETTO:+0100
TZNAME:CET
DTSTART:20141026T010000
END:STANDARD
BEGIN:DAYLIGHT
TZOFFSETFROM:+0100
TZOFFSETTO:+0200
TZNAME:CEST
DTSTART:20150329T010000
END:DAYLIGHT
BEGIN:STANDARD
TZOFFSETFROM:+0200
TZOFFSETTO:+0100
TZNAME:CET
DTSTART:20151025T010000
END:STANDARD
END:VTIMEZONE
BEGIN:VEVENT
DTSTART;VALUE=DATE:20140922
DTEND;VALUE=DATE:20140923
DTSTAMP:20260425T174739
CREATED:20140909T124836Z
LAST-MODIFIED:20190517T122904Z
UID:1508-1411344000-1411430399@sciences-medias.fr
SUMMARY:HDR de Catherine Allamel-Raffin
DESCRIPTION:Joëlle Le Marec est membre du jury d’habilitation à diriger des recherches de Catherine Allamel-Raffin : « Objectivité et illustrations scientifiques contemporaines »\, sous la direction de Bernard Ancori. \nLa soutenance a lieu le 22 septembre 2014 à l’université de Strasbourg.
URL:https://sciences-medias.fr/blogs/event/hdr-de-catherine-allamel-raffin/
LOCATION:Université de Strasbourg\, Strasbourg
CATEGORIES:Soutenances
END:VEVENT
END:VCALENDAR